Workbook

Sheet AUTOLIQUIDACIÓN
A1: 1) Tasa de licencia de obra menor (Comunicación Previa)
B2: Concepto | C2: Tasa | D2: Importe (€)
B3: Tasa Licencia Obra Menor (Comunicación Previa) | C3: 3.9 | D3: 3.9
A5: 2) Impuesto sobre construcciones, instalaciones y obras
B6: Presupuesto (€) - IVA no incluido | C6: Tipo Gravamen | D6: Importe (€)
D7: =IF(OR(ISBLANK(B7),ISBLANK(C7)),0,IF(B7<300.51,0,B7*VLOOKUP(C7,Hoja2!A3:B4,2,0))) -> 0
A9: 3) Tasa por ocupación de vía pública
B10: Objeto | C10: Superficie (m2) | D10: Nº Días | E10: Vía | F10: Tipo Vía | G10: Categoría | H10: Tarifa/m2 al día (€) | I10: Importe (€)
B11: Materiales de construcción | F11: =IF(ISBLANK(E11),"",VLOOKUP(AUTOLIQUIDACIÓN!E11,'CALLEJERO FISCAL'!$A$2:$C$368,2,0)) | G11: =IF(ISBLANK(E11),"",VLOOKUP(AUTOLIQUIDACIÓN!E11,'CALLEJERO FISCAL'!$A$2:$C$368,3,0)) | H11: =IF(ISBLANK(E11),"",VLOOKUP(G11,Hoja2!A13:C16,3,0)) | I11: =IF(OR(ISBLANK(C11),ISBLANK(D11),ISBLANK(E11)),"",C11*D11*H11)
B12: Contenedor, vallas, andamios, plataforma elevadora, otros | F12: =IF(ISBLANK(E12),"",VLOOKUP(AUTOLIQUIDACIÓN!E12,'CALLEJERO FISCAL'!$A$2:$C$368,2,0)) | G12: =IF(ISBLANK(E12),"",VLOOKUP(AUTOLIQUIDACIÓN!E12,'CALLEJERO FISCAL'!$A$2:$C$368,3,0)) | H12: =IF(ISBLANK(E12),"",VLOOKUP(G12,Hoja2!A20:C23,3,0)) | I12: =IF(OR(ISBLANK(C12),ISBLANK(D12),ISBLANK(E12)),"",C12*D12*H12)
B13: Corte de calle | C13: ------------------------------------------------------------ | F13: =IF(ISBLANK(E13),"",VLOOKUP(AUTOLIQUIDACIÓN!E13,'CALLEJERO FISCAL'!$A$2:$C$368,2,0)) | G13: =IF(ISBLANK(E13),"",VLOOKUP(AUTOLIQUIDACIÓN!E13,'CALLEJERO FISCAL'!$A$2:$C$368,3,0)) | H13: =IF(ISBLANK(E13),"",VLOOKUP(G13,Hoja2!A27:C30,3,0)) | I13: =IF(OR(ISBLANK(D13),ISBLANK(E13)),"",D13*H13)
B14: TOTAL | I14: =SUM(I11:I13) -> 0
A16: 4) Fianza de vertidos (obligatorio siempre que se generan escombros)
B17: Contenedor | C17: Tipo Escombro (Limpio/Mezcla) | D17: Importe (€)
B18: Saca | D18: =IF(ISBLANK(C18),"",VLOOKUP(C18,Hoja2!B43:C44,2,0))
B19: Contenedor pequeño 3m3 (3,5x1,8x0,65) | D19: =IF(ISBLANK(C19),"",VLOOKUP(C19,Hoja2!B45:C46,2,0))
B20: Contenedor grande 4,5m3 (3,75x1,8x0,85) | D20: =IF(ISBLANK(C20),"",VLOOKUP(C20,Hoja2!B47:C48,2,0))
B21: TOTAL | D21: =SUM(D18:D20) -> 0
B23: TOTAL (Autocalculado)
B24: Concepto | C24: Importe (€)
B25: 1) Tasa de licencia de obra menor | C25: =D3 -> 3.9
B26: 2) Impuesto sobre construcciones, instalaciones y obras | C26: =D7 -> 0
B27: 3) Ocupación de vía pública | C27: =I14 -> 0
B28: 4) Fianza de vertidos | C28: =D21 -> 0
B29: TOTAL A PAGAR (€) | C29: =SUM(C25:C28) -> 3.9

Sheet CALLEJERO FISCAL
A1: DENOMINACIÓN VIAL | B1: TIPO | C1: CATEGORÍA
A3: ABEDUL | B3: CALLE | C3: TERCERA
A4: ABETO | B4: CALLE | C4: TERCERA
A5: ACACIA | B5: CALLE | C5: TERCERA
A6: ACEBO | B6: CALLE | C6: TERCERA
A7: AGRICULTORES | B7: CALLE | C7: TERCERA
A8: AIRE | B8: CALLE | C8: TERCERA
A9: ALAMO | B9: CALLE | C9: TERCERA
A10: ALBA | B10: CALLE | C10: TERCERA
A11: ALBACETE | B11: CALLE | C11: TERCERA
A12: ALCALDE VICTOR SERENA GUIRADO | B12: CALLE | C12: PRIMERA
A13: ALCAÑIZ | B13: CALLE | C13: TERCERA
... A368: YUTERA DEL CARMEN | B368: PASEO | C368: TERCERA

Sheet Hoja2
A1: Tipo Obra | B1: Tipo Gravamen (%)
A3: Rehabilitación Casco Urbano y Pedanías - 2,953% | B3: 0.02953
A4: Obras Polígonos Ind. Y Ganaderos - 3,314% | B4: 0.03314
B11: Categoría | C11: Tarifa
A13: PRIMERA | B13: Categoría 1 (0,50€) | C13: 0.5
A14: SEGUNDA | B14: Categoría 2 (0,44€) | C14: 0.44
A15: TERCERA | B15: Categoría 3 (0,38€) | C15: 0.38
A16: CUARTA | B16: Pedanía (0,32€) | C16: 0.32
B18: Categoría | C18: Tarifa
A20: PRIMERA | B20: Categoría 1 (0,40€) | C20: 0.4
A21: SEGUNDA | B21: Categoría 2 (0,35€) | C21: 0.35
A22: TERCERA | B22: Categoría 3 (0,30€) | C22: 0.3
A23: CUARTA | B23: Pedanía (0,26€) | C23: 0.26
B25: Categoría | C25: Tarifa
A27: PRIMERA | B27: Categoría 1 (27,80€) | C27: 27.8
A28: SEGUNDA | B28: Categoría 2 (22,24€) | C28: 22.24
A29: TERCERA | B29: Categoría 3 (16,68€) | C29: 16.68
A30: CUARTA | B30: Pedanía (11,12€) | C30: 11.12
A41: Continente | B41: Tipo Escombro | C41: Fianza
A43: Saca | B43: Limpio | C43: 40
A44: Saca | B44: Mezcla | C44: 45
A45: Contenedor pequeño 3m3 (3,5x1,8x0,65) | B45: Limpio | C45: 70
A46: Contenedor pequeño 3m3 (3,5x1,8x0,65) | B46: Mezcla | C46: 80
A47: Contenedor grande 4,5m3 (3,75x1,8x0,85) | B47: Limpio | C47: 80
A48: Contenedor grande 4,5m3 (3,75x1,8x0,85) | B48: Mezcla | C48: 105
